BEGIN:VCALENDAR
VERSION:2.0
PRODID:-//wp-events-plugin.com//7.2.3.1//EN
BEGIN:VEVENT
UID:6@soli-rheinstetten.de
DTSTART;VALUE=DATE:20250906
DTEND;VALUE=DATE:20250907
DTSTAMP:20250825T090704Z
URL:https://soli-rheinstetten.de/events/ferienprogramm-einrad-fahren/
SUMMARY:Ferienprogramm "Einrad fahren"
DESCRIPTION:Details folgen\, hierfür werden Kinder benötigt die helfen k
 önnen
CATEGORIES:Einrad,Jugend
LOCATION:Schulzentrum Keltenhalle\, am Tummelplatz 6\, Rheinstetten\, 76287
 \, Deutschland
X-APPLE-STRUCTURED-LOCATION;VALUE=URI;X-ADDRESS=am Tummelplatz 6\, Rheinste
 tten\, 76287\, Deutschland;X-APPLE-RADIUS=100;X-TITLE=Schulzentrum Keltenh
 alle:geo:0,0
END:VEVENT
END:VCALENDAR