BEGIN:VCALENDAR
VERSION:2.0
PRODID:-//wp-events-plugin.com//7.2.3.1//EN
BEGIN:VEVENT
UID:4@soli-rheinstetten.de
DTSTART:20251025T191500Z
DTEND:20251025T211500Z
DTSTAMP:20251003T150316Z
URL:https://soli-rheinstetten.de/events/kegeln-in-karlsruhe/
SUMMARY:Kegeln im Lagos in Karlsruhe
DESCRIPTION:am 25.10.25 19:15-21:15 Uhr für alle  Jugendlichen ab 14 Jahr
 e\n\nTreffpunkt am alten Rathaus um 18:45uhr\nPreis 10€\n
CATEGORIES:Einrad,Jugend
END:VEVENT
END:VCALENDAR