BEGIN:VCALENDAR
VERSION:2.0
PRODID:-//wp-events-plugin.com//7.2.3.1//EN
BEGIN:VEVENT
UID:8@soli-rheinstetten.de
DTSTART;VALUE=DATE:20250606
DTEND;VALUE=DATE:20250610
DTSTAMP:20250322T102720Z
URL:https://soli-rheinstetten.de/events/pfingstzeltlager-in-ruelzheim/
SUMMARY:Pfingstzeltlager in Rülzheim
DESCRIPTION:begrenzte Anmeldung und nur mit Eltern und Equipment. Weitere D
 etails folgen
CATEGORIES:Jugend
LOCATION:Rülzheim\, a. See 2\, Rülzheim\, 76761\, Deutschland
X-APPLE-STRUCTURED-LOCATION;VALUE=URI;X-ADDRESS=a. See 2\, Rülzheim\, 7676
 1\, Deutschland;X-APPLE-RADIUS=100;X-TITLE=Rülzheim:geo:0,0
END:VEVENT
END:VCALENDAR